BEGIN:VCALENDAR
VERSION:2.0
PRODID:-//SunCommon - ECPv6.15.20//NONSGML v1.0//EN
CALSCALE:GREGORIAN
METHOD:PUBLISH
X-ORIGINAL-URL:https://suncommon.com
X-WR-CALDESC:Events for SunCommon
REFRESH-INTERVAL;VALUE=DURATION:PT1H
X-Robots-Tag:noindex
X-PUBLISHED-TTL:PT1H
BEGIN:VTIMEZONE
TZID:America/New_York
BEGIN:DAYLIGHT
TZOFFSETFROM:-0500
TZOFFSETTO:-0400
TZNAME:EDT
DTSTART:20220313T070000
END:DAYLIGHT
BEGIN:STANDARD
TZOFFSETFROM:-0400
TZOFFSETTO:-0500
TZNAME:EST
DTSTART:20221106T060000
END:STANDARD
BEGIN:DAYLIGHT
TZOFFSETFROM:-0500
TZOFFSETTO:-0400
TZNAME:EDT
DTSTART:20230312T070000
END:DAYLIGHT
BEGIN:STANDARD
TZOFFSETFROM:-0400
TZOFFSETTO:-0500
TZNAME:EST
DTSTART:20231105T060000
END:STANDARD
BEGIN:DAYLIGHT
TZOFFSETFROM:-0500
TZOFFSETTO:-0400
TZNAME:EDT
DTSTART:20240310T070000
END:DAYLIGHT
BEGIN:STANDARD
TZOFFSETFROM:-0400
TZOFFSETTO:-0500
TZNAME:EST
DTSTART:20241103T060000
END:STANDARD
BEGIN:DAYLIGHT
TZOFFSETFROM:-0500
TZOFFSETTO:-0400
TZNAME:EDT
DTSTART:20250309T070000
END:DAYLIGHT
BEGIN:STANDARD
TZOFFSETFROM:-0400
TZOFFSETTO:-0500
TZNAME:EST
DTSTART:20251102T060000
END:STANDARD
END:VTIMEZONE
BEGIN:VEVENT
DTSTART;TZID=America/New_York:20240106T030000
DTEND;TZID=America/New_York:20240114T120000
DTSTAMP:20260424T190557
CREATED:20231018T013110Z
LAST-MODIFIED:20231018T013240Z
UID:952-1704510000-1705233600@suncommon.com
SUMMARY:[External Event Name]
DESCRIPTION:
URL:https://suncommon.com/event/external-event-name-2/
ATTACH;FMTTYPE=image/jpeg:https://suncommon.com/wp-content/uploads/2023/10/image30@2x.jpg
END:VEVENT
BEGIN:VEVENT
DTSTART;VALUE=DATE:20231230
DTEND;VALUE=DATE:20240101
DTSTAMP:20260424T190557
CREATED:20231018T012837Z
LAST-MODIFIED:20231018T012953Z
UID:949-1703962800-1704049199@suncommon.com
SUMMARY:[External Event Name]
DESCRIPTION:
URL:https://suncommon.com/event/external-event-name/
ATTACH;FMTTYPE=image/jpeg:https://suncommon.com/wp-content/uploads/2023/10/image30@2x.jpg
END:VEVENT
BEGIN:VEVENT
DTSTART;TZID=America/New_York:20231124T030000
DTEND;TZID=America/New_York:20231124T120000
DTSTAMP:20260424T190557
CREATED:20231018T012746Z
LAST-MODIFIED:20231018T012746Z
UID:947-1700794800-1700827200@suncommon.com
SUMMARY:[Internal Event Name]
DESCRIPTION:
URL:https://suncommon.com/event/internal-event-name/
END:VEVENT
END:VCALENDAR